BEGIN:VCALENDAR
VERSION:2.0
PRODID:-//Manjolo - ECPv5.3.1//NONSGML v1.0//EN
CALSCALE:GREGORIAN
METHOD:PUBLISH
X-WR-CALNAME:Manjolo
X-ORIGINAL-URL:https://www.manjolo.com
X-WR-CALDESC:Veranstaltungen für Manjolo
BEGIN:VTIMEZONE
TZID:Europe/Vienna
BEGIN:DAYLIGHT
TZOFFSETFROM:+0100
TZOFFSETTO:+0200
TZNAME:CEST
DTSTART:20180325T010000
END:DAYLIGHT
BEGIN:STANDARD
TZOFFSETFROM:+0200
TZOFFSETTO:+0100
TZNAME:CET
DTSTART:20181028T010000
END:STANDARD
END:VTIMEZONE
BEGIN:VEVENT
DTSTART;TZID=Europe/Vienna:20181119T190000
DTEND;TZID=Europe/Vienna:20181119T210000
DTSTAMP:20260424T134801
CREATED:20181106T100145Z
LAST-MODIFIED:20181106T100145Z
UID:12609-1542654000-1542661200@www.manjolo.com
SUMMARY:Manjolo & Thomas - enjoy us
DESCRIPTION:Das Musiker/ Künstlerduo Manfred Johann Lorenz alias Manjolo und Thomas Bonneß\nbereichern das OpenYour Heart – Yogastudio von Anne Petzold in Neuhaus am Inn. \nDie zwei Ausnahme-Künstler gestalten diesen Abend mit Maya-Basiswissen und der sogenannten Maya-Signaturanalyse.\nSie umrahmen die Veranstaltung mit ihrem individuellen Musikprogramm\, welches von Spiritpop über Mantras bis hin zu Eigenkompositionen reicht. \nJedem Teilnehmer analysieren die Künstler an Hand des eigenen Geburtstdatums die individuelle Maya-Bedeutung.\nDieses hilft persönliche Stärken aufzuzeigen und den nächsten Schritt im Lebensplan anzusteuern.\nDas wedische Stammeswissen lassen sie miteinfließen. \nBei Interesse bitte direkt bei Anne anmelden und das eigene Geburtsdatum angeben. \nDatum: Montag\, 19. November\, 19 – ca 21 Uhr\nOrt: Praxis OpenYourHeart\, Viehhauserstr. 6\, 94152 Neuhaus am Inn\nPreis: 25 Euro \nInfos und Anmeldung bei Anne Petzold:\n+49 162 2492555 \nWir freuen uns auf deine Teilnahme \nHerzliche Grüße\nAnne\, Thomas & Manjolo
URL:https://www.manjolo.com/event/manjolo-thomas-enjoy-us/
LOCATION:Neuhaus am Inn\, Viehauserstrasse 6\, Neuhaus am Inn\, Deutschland
ATTACH;FMTTYPE=image/jpeg:https://www.manjolo.com/wp-content/uploads/2018/11/mayaaaaa-anne.jpg
END:VEVENT
END:VCALENDAR