BEGIN:VCALENDAR
VERSION:2.0
PRODID:-//Manjolo - ECPv5.3.1//NONSGML v1.0//EN
CALSCALE:GREGORIAN
METHOD:PUBLISH
X-WR-CALNAME:Manjolo
X-ORIGINAL-URL:https://www.manjolo.com
X-WR-CALDESC:Veranstaltungen für Manjolo
BEGIN:VTIMEZONE
TZID:Europe/Vienna
BEGIN:DAYLIGHT
TZOFFSETFROM:+0100
TZOFFSETTO:+0200
TZNAME:CEST
DTSTART:20190331T010000
END:DAYLIGHT
BEGIN:STANDARD
TZOFFSETFROM:+0200
TZOFFSETTO:+0100
TZNAME:CET
DTSTART:20191027T010000
END:STANDARD
END:VTIMEZONE
BEGIN:VEVENT
DTSTART;TZID=Europe/Vienna:20190411T193000
DTEND;TZID=Europe/Vienna:20190411T213000
DTSTAMP:20260424T135058
CREATED:20190311T211430Z
LAST-MODIFIED:20190311T211644Z
UID:12620-1555011000-1555018200@www.manjolo.com
SUMMARY:MMM Manjolo Mocht Musi beim Bachbauern
DESCRIPTION:Deeesmoi weards b´sonders … weil da Manfred ned nua seine Liadln dabei hod\, sondern ah wos zum vazöhn. Vielleicht sann sogar a boah Gäst´ mit von der Partie\, sicher is\, es is a g´schmeidige Sach´ \, de Lieadln diaf im Bauch zumn spürn. \nOiso kemmts und gebt´ s eich ah ´n Ruck … sogt´s  ahs wieder … owa ganz ohne Druck  \nam 16.5.2019 beim Bachbauern … do ist´s so wiet liabe Leit
URL:https://www.manjolo.com/event/mmm-manjolo-mocht-musi-beim-bachbauern/
LOCATION:Bachbauer Gewölbe\, Dietraching 3\, 4774 St. Marienkirchen\, Oberösterreich\, 4774\, Österreich
ATTACH;FMTTYPE=image/png:https://www.manjolo.com/wp-content/uploads/2017/04/gitarre-und-mike.png
END:VEVENT
END:VCALENDAR